BEGIN:VCALENDAR
VERSION:2.0
PRODID:-//wp-events-plugin.com//7.2.3.1//EN
TZID:America/Chicago
X-WR-TIMEZONE:America/Chicago
BEGIN:VEVENT
UID:1@printedblueprint.com
DTSTART;TZID=America/Chicago:20260422T170000
DTEND;TZID=America/Chicago:20260422T190000
DTSTAMP:20260420T001528Z
URL:https://printedblueprint.com/events/intro-to-3d-printing/
SUMMARY:Intro to 3d Printing.
DESCRIPTION:Hi everyone\,\n\nI’m thrilled to launch my first "Intro to 3D
  Printing" class. Because this is our inaugural session\, spots are limite
 d to ensure everyone gets hands-on time with the machines.\n\nClass Overvi
 ew:\nI will be teaching the fundamentals of how 3D printing actually works
 . We will dive into the history of the technology\, explore its current ap
 plications across different industries\, and discuss where the future of a
 dditive manufacturing is heading.\n\nMake Your Mark:\nFollowing the presen
 tation\, attendees will jump straight into creating. You will design and p
 rint a personalized nametag that you can use at all future events and clas
 ses!
END:VEVENT
BEGIN:VTIMEZONE
TZID:America/Chicago
X-LIC-LOCATION:America/Chicago
BEGIN:DAYLIGHT
DTSTART:20260308T030000
TZOFFSETFROM:-0600
TZOFFSETTO:-0500
TZNAME:CDT
END:DAYLIGHT
END:VTIMEZONE
END:VCALENDAR